BEGIN:VCALENDAR
VERSION:2.0
PRODID:-//Maryland Inclusive Housing (MIH) - ECPv6.15.20//NONSGML v1.0//EN
CALSCALE:GREGORIAN
METHOD:PUBLISH
X-WR-CALNAME:Maryland Inclusive Housing (MIH)
X-ORIGINAL-URL:https://mih-inc.org
X-WR-CALDESC:Events for Maryland Inclusive Housing (MIH)
REFRESH-INTERVAL;VALUE=DURATION:PT1H
X-Robots-Tag:noindex
X-PUBLISHED-TTL:PT1H
BEGIN:VTIMEZONE
TZID:America/New_York
BEGIN:DAYLIGHT
TZOFFSETFROM:-0500
TZOFFSETTO:-0400
TZNAME:EDT
DTSTART:20230312T070000
END:DAYLIGHT
BEGIN:STANDARD
TZOFFSETFROM:-0400
TZOFFSETTO:-0500
TZNAME:EST
DTSTART:20231105T060000
END:STANDARD
BEGIN:DAYLIGHT
TZOFFSETFROM:-0500
TZOFFSETTO:-0400
TZNAME:EDT
DTSTART:20240310T070000
END:DAYLIGHT
BEGIN:STANDARD
TZOFFSETFROM:-0400
TZOFFSETTO:-0500
TZNAME:EST
DTSTART:20241103T060000
END:STANDARD
BEGIN:DAYLIGHT
TZOFFSETFROM:-0500
TZOFFSETTO:-0400
TZNAME:EDT
DTSTART:20250309T070000
END:DAYLIGHT
BEGIN:STANDARD
TZOFFSETFROM:-0400
TZOFFSETTO:-0500
TZNAME:EST
DTSTART:20251102T060000
END:STANDARD
END:VTIMEZONE
BEGIN:VEVENT
DTSTART;TZID=America/New_York:20240215T110000
DTEND;TZID=America/New_York:20240215T123000
DTSTAMP:20260425T121927
CREATED:20240111T175506Z
LAST-MODIFIED:20240111T175508Z
UID:10000410-1707994800-1708000200@mih-inc.org
SUMMARY:HUD’s New Guidance on Criminal Activity and Housing
DESCRIPTION:The U.S. Department of Housing and Urban Development (HUD) and its office of Fair Housing and Equal Opportunity (FHEO) are working to make it easier for people with a criminal record to find housing. In a memo sent out to staff on April 19\, 2022 HUD Secretary Marcia Fudge instructed HUD Multifamily to review programs and policies that may “pose barriers to housing for persons with criminal histories or their families.” On June 10\, 2022\, FHEO implemented previously issued Guidance on Applying the Fair Housing Act to Use of Criminal Records by Housing Providers. Since then FHEO has provided training on Strategies for Addressing Discrimination: Housing Providers Use of Criminal Records to Fair Housing advocacy groups who investigate\, test\, and bring charges against housing providers. Find out how these initiatives will impact the way you do business. This course is applicable to all properties subject to the Fair Housing Act. \nLearn more and register!
URL:https://mih-inc.org/event/huds-new-guidance-on-criminal-activity-and-housing/
CATEGORIES:Housing Trainings Calendar,Training
END:VEVENT
BEGIN:VEVENT
DTSTART;TZID=America/New_York:20240215T120000
DTEND;TZID=America/New_York:20240215T130000
DTSTAMP:20260425T121927
CREATED:20240208T165829Z
LAST-MODIFIED:20240208T170235Z
UID:10000418-1707998400-1708002000@mih-inc.org
SUMMARY:The Fair Housing Rights of People with Disabilities in Maryland
DESCRIPTION:Join the Maryland Department of Disabilities and Equal Rights Center for a presentation on the rights of people with disabilities in housing. The training will cover fair housing rights in Maryland\, signs of possible housing discrimination\, and reasonable accommodations and modifications in housing. Through this training\, you will learn: – how to identify and report possible housing discrimination\, and – how to request a reasonable accommodation\, such as asking for a reserved parking space or having an emotional support animal in a ‘no pets’ building. \nLearn more and register!
URL:https://mih-inc.org/event/the-fair-housing-rights-of-people-with-disabilities-in-maryland/
CATEGORIES:Housing Trainings Calendar,Training
END:VEVENT
END:VCALENDAR