BEGIN:VCALENDAR
VERSION:2.0
PRODID:-//Maryland Inclusive Housing (MIH) - ECPv6.15.20//NONSGML v1.0//EN
CALSCALE:GREGORIAN
METHOD:PUBLISH
X-WR-CALNAME:Maryland Inclusive Housing (MIH)
X-ORIGINAL-URL:https://mih-inc.org
X-WR-CALDESC:Events for Maryland Inclusive Housing (MIH)
REFRESH-INTERVAL;VALUE=DURATION:PT1H
X-Robots-Tag:noindex
X-PUBLISHED-TTL:PT1H
BEGIN:VTIMEZONE
TZID:America/New_York
BEGIN:DAYLIGHT
TZOFFSETFROM:-0500
TZOFFSETTO:-0400
TZNAME:EDT
DTSTART:20240310T070000
END:DAYLIGHT
BEGIN:STANDARD
TZOFFSETFROM:-0400
TZOFFSETTO:-0500
TZNAME:EST
DTSTART:20241103T060000
END:STANDARD
BEGIN:DAYLIGHT
TZOFFSETFROM:-0500
TZOFFSETTO:-0400
TZNAME:EDT
DTSTART:20250309T070000
END:DAYLIGHT
BEGIN:STANDARD
TZOFFSETFROM:-0400
TZOFFSETTO:-0500
TZNAME:EST
DTSTART:20251102T060000
END:STANDARD
BEGIN:DAYLIGHT
TZOFFSETFROM:-0500
TZOFFSETTO:-0400
TZNAME:EDT
DTSTART:20260308T070000
END:DAYLIGHT
BEGIN:STANDARD
TZOFFSETFROM:-0400
TZOFFSETTO:-0500
TZNAME:EST
DTSTART:20261101T060000
END:STANDARD
BEGIN:DAYLIGHT
TZOFFSETFROM:-0500
TZOFFSETTO:-0400
TZNAME:EDT
DTSTART:20270314T070000
END:DAYLIGHT
BEGIN:STANDARD
TZOFFSETFROM:-0400
TZOFFSETTO:-0500
TZNAME:EST
DTSTART:20271107T060000
END:STANDARD
END:VTIMEZONE
BEGIN:VEVENT
DTSTART;TZID=America/New_York:20250925T130000
DTEND;TZID=America/New_York:20250925T143000
DTSTAMP:20260425T124656
CREATED:20250826T144552Z
LAST-MODIFIED:20250826T144555Z
UID:10000583-1758805200-1758810600@mih-inc.org
SUMMARY:Gwen Volk’s Bite-Sized HOTMA: Section 8 Asset Restrictions\, EIV Changes\, New Leases & More
DESCRIPTION:This focused session breaks down key changes under HOTMA that affect eligibility\, documentation\, and ongoing compliance. We’ll unpack the new Section 8 net cash value cap and owned real estate restrictions\, walk through the related admission criteria and owner discretion for current residents\, and explain cure opportunities\, timelines\, and exceptions. You’ll also get the latest on revised forms—including the HUD-50059\, HUD-9887\, HUD-9887A\, and model leases—and what they mean for your operations. Plus\, learn new Owner options for EIV use and what the temporary suspension of EIV Income Discrepancy reports really means\, how enhanced SSN verification will work\, and which Tenant Selection Plan (TSP) topics must be updated to stay in compliance.Learn more an register!
URL:https://mih-inc.org/event/gwen-volks-bite-sized-hotma-section-8-asset-restrictions-eiv-changes-new-leases-more/
CATEGORIES:Housing Trainings Calendar
END:VEVENT
BEGIN:VEVENT
DTSTART;TZID=America/New_York:20250930T100000
DTEND;TZID=America/New_York:20250930T150000
DTSTAMP:20260425T124656
CREATED:20250915T153521Z
LAST-MODIFIED:20250915T153951Z
UID:10000588-1759226400-1759244400@mih-inc.org
SUMMARY:MIH Housing Support Services Training
DESCRIPTION:MIH is offering virtual five-session\, DDA-approved and waiver-required training in Housing Support Services (HSS)\, starting Sept. 30\, and provided by housing support services expert Lauren Silverstone\, Director of HSS at MIH. This comprehensive and uniquely tailored program gives Housing Support Services workers the knowledge and credentials stipulated by DDA to help individuals with Intellectual and Developmental Disabilities obtain and maintain accessible and affordable housing of their choice. Learn more and register!
URL:https://mih-inc.org/event/mih-housing-support-services-training-2/2025-09-30/
CATEGORIES:Housing Trainings Calendar,Partner Events
END:VEVENT
BEGIN:VEVENT
DTSTART;TZID=America/New_York:20251007T100000
DTEND;TZID=America/New_York:20251007T150000
DTSTAMP:20260425T124656
CREATED:20250915T153521Z
LAST-MODIFIED:20250915T153951Z
UID:10000589-1759831200-1759849200@mih-inc.org
SUMMARY:MIH Housing Support Services Training
DESCRIPTION:MIH is offering virtual five-session\, DDA-approved and waiver-required training in Housing Support Services (HSS)\, starting Sept. 30\, and provided by housing support services expert Lauren Silverstone\, Director of HSS at MIH. This comprehensive and uniquely tailored program gives Housing Support Services workers the knowledge and credentials stipulated by DDA to help individuals with Intellectual and Developmental Disabilities obtain and maintain accessible and affordable housing of their choice. Learn more and register!
URL:https://mih-inc.org/event/mih-housing-support-services-training-2/2025-10-07/
CATEGORIES:Housing Trainings Calendar,Partner Events
END:VEVENT
BEGIN:VEVENT
DTSTART;TZID=America/New_York:20251007T130000
DTEND;TZID=America/New_York:20251007T140000
DTSTAMP:20260425T124656
CREATED:20250904T181141Z
LAST-MODIFIED:20250904T181143Z
UID:10000587-1759842000-1759845600@mih-inc.org
SUMMARY:Pot\, Pets\, Parking & People: Fair Housing Pitfalls to Avoid
DESCRIPTION:In the fast-paced\, ever-evolving world of property management\, the ground beneath our feet is constantly shifting. New laws\, new expectations\, and new social norms mean that what was acceptable yesterday could be a complaint or lawsuit waiting to happen today.You juggle leases\, maintenance\, resident complaints\, and marketing\, all while striving to maintain a thriving\, harmonious community. But lurking in the shadows of this complex job are hidden dangers – pitfalls that can lead to devastating legal battles\, massive fines\, and irreparable damage to your reputation and your property’s bottom line.This isn’t about the obvious; we all know you can’t discriminate based on race or religion. But what about the nuances? The seemingly innocent policies that\, when scrutinized by a Fair Housing attorney\, reveal a pattern of discriminatory impact? The seemingly harmless conversation that could be interpreted as a violation? These are the real-world scenarios that blindside even the most seasoned property managers.That’s why we’ve created a comprehensive\, one-hour webinar designed specifically for you: “Pot\, Pets\, Parking & People: Fair Housing Pitfalls to Avoid.”Learn more and register!
URL:https://mih-inc.org/event/pot-pets-parking-people-fair-housing-pitfalls-to-avoid/
CATEGORIES:Housing Trainings Calendar
END:VEVENT
BEGIN:VEVENT
DTSTART;TZID=America/New_York:20251014T100000
DTEND;TZID=America/New_York:20251014T150000
DTSTAMP:20260425T124656
CREATED:20250915T153521Z
LAST-MODIFIED:20250915T153951Z
UID:10000590-1760436000-1760454000@mih-inc.org
SUMMARY:MIH Housing Support Services Training
DESCRIPTION:MIH is offering virtual five-session\, DDA-approved and waiver-required training in Housing Support Services (HSS)\, starting Sept. 30\, and provided by housing support services expert Lauren Silverstone\, Director of HSS at MIH. This comprehensive and uniquely tailored program gives Housing Support Services workers the knowledge and credentials stipulated by DDA to help individuals with Intellectual and Developmental Disabilities obtain and maintain accessible and affordable housing of their choice. Learn more and register!
URL:https://mih-inc.org/event/mih-housing-support-services-training-2/2025-10-14/
CATEGORIES:Housing Trainings Calendar,Partner Events
END:VEVENT
BEGIN:VEVENT
DTSTART;TZID=America/New_York:20251021T100000
DTEND;TZID=America/New_York:20251021T150000
DTSTAMP:20260425T124656
CREATED:20250915T153521Z
LAST-MODIFIED:20250915T153951Z
UID:10000591-1761040800-1761058800@mih-inc.org
SUMMARY:MIH Housing Support Services Training
DESCRIPTION:MIH is offering virtual five-session\, DDA-approved and waiver-required training in Housing Support Services (HSS)\, starting Sept. 30\, and provided by housing support services expert Lauren Silverstone\, Director of HSS at MIH. This comprehensive and uniquely tailored program gives Housing Support Services workers the knowledge and credentials stipulated by DDA to help individuals with Intellectual and Developmental Disabilities obtain and maintain accessible and affordable housing of their choice. Learn more and register!
URL:https://mih-inc.org/event/mih-housing-support-services-training-2/2025-10-21/
CATEGORIES:Housing Trainings Calendar,Partner Events
END:VEVENT
BEGIN:VEVENT
DTSTART;TZID=America/New_York:20251028T100000
DTEND;TZID=America/New_York:20251028T150000
DTSTAMP:20260425T124656
CREATED:20250915T153521Z
LAST-MODIFIED:20250915T153951Z
UID:10000592-1761645600-1761663600@mih-inc.org
SUMMARY:MIH Housing Support Services Training
DESCRIPTION:MIH is offering virtual five-session\, DDA-approved and waiver-required training in Housing Support Services (HSS)\, starting Sept. 30\, and provided by housing support services expert Lauren Silverstone\, Director of HSS at MIH. This comprehensive and uniquely tailored program gives Housing Support Services workers the knowledge and credentials stipulated by DDA to help individuals with Intellectual and Developmental Disabilities obtain and maintain accessible and affordable housing of their choice. Learn more and register!
URL:https://mih-inc.org/event/mih-housing-support-services-training-2/2025-10-28/
CATEGORIES:Housing Trainings Calendar,Partner Events
END:VEVENT
BEGIN:VEVENT
DTSTART;TZID=America/New_York:20251112T130000
DTEND;TZID=America/New_York:20251112T143000
DTSTAMP:20260425T124656
CREATED:20251014T164617Z
LAST-MODIFIED:20251014T164620Z
UID:10000597-1762952400-1762957800@mih-inc.org
SUMMARY:Live-in Aides: Compliance Made Clear
DESCRIPTION:This webinar provides a comprehensive overview of the rules and regulations governing Live-In Aides in HUD housing as outlined in the HUD Handbook 4350.3. Participants will learn the key compliance requirements\, including eligibility standards\, documentation processes\, and the proper application of HUD policies. Through real-world examples and case studies\, this session will help housing professionals confidently navigate common challenges related to Live-In Aides. By the end of the course\, attendees will have the tools and knowledge needed to ensure compliance and effectively manage Live-In Aide requests in HUD housing. Learn more and register!
URL:https://mih-inc.org/event/live-in-aides-compliance-made-clear/
CATEGORIES:Housing Trainings Calendar
END:VEVENT
BEGIN:VEVENT
DTSTART;TZID=America/New_York:20260113T100000
DTEND;TZID=America/New_York:20260113T150000
DTSTAMP:20260425T124656
CREATED:20251218T161604Z
LAST-MODIFIED:20251218T173906Z
UID:10000607-1768298400-1768316400@mih-inc.org
SUMMARY:MIH Housing Support Servicers Training
DESCRIPTION:Maryland Inclusive Housing (MIH) is offering virtual\, DDA-approved training that meets Waiver requirements for Housing Support Services. The training is led by Lauren Silverstone\, Director of Housing Support Services at MIH. Lauren brings over 12 years of experience working with individuals with disabilities\, including providing permanent supportive housing and case management for people experiencing homelessness. As a member of Maryland’s first certified Housing Support Services cohort\, she offers both hands-on expertise and a strategic perspective.Learn more and register!
URL:https://mih-inc.org/event/mih-housing-support-servicers-training/2026-01-13/
CATEGORIES:Housing Trainings Calendar,Partner Events
END:VEVENT
BEGIN:VEVENT
DTSTART;TZID=America/New_York:20260120T100000
DTEND;TZID=America/New_York:20260120T150000
DTSTAMP:20260425T124656
CREATED:20251218T161604Z
LAST-MODIFIED:20251218T173906Z
UID:10000608-1768903200-1768921200@mih-inc.org
SUMMARY:MIH Housing Support Servicers Training
DESCRIPTION:Maryland Inclusive Housing (MIH) is offering virtual\, DDA-approved training that meets Waiver requirements for Housing Support Services. The training is led by Lauren Silverstone\, Director of Housing Support Services at MIH. Lauren brings over 12 years of experience working with individuals with disabilities\, including providing permanent supportive housing and case management for people experiencing homelessness. As a member of Maryland’s first certified Housing Support Services cohort\, she offers both hands-on expertise and a strategic perspective.Learn more and register!
URL:https://mih-inc.org/event/mih-housing-support-servicers-training/2026-01-20/
CATEGORIES:Housing Trainings Calendar,Partner Events
END:VEVENT
BEGIN:VEVENT
DTSTART;TZID=America/New_York:20260127T100000
DTEND;TZID=America/New_York:20260127T150000
DTSTAMP:20260425T124656
CREATED:20251218T161604Z
LAST-MODIFIED:20251218T173906Z
UID:10000609-1769508000-1769526000@mih-inc.org
SUMMARY:MIH Housing Support Servicers Training
DESCRIPTION:Maryland Inclusive Housing (MIH) is offering virtual\, DDA-approved training that meets Waiver requirements for Housing Support Services. The training is led by Lauren Silverstone\, Director of Housing Support Services at MIH. Lauren brings over 12 years of experience working with individuals with disabilities\, including providing permanent supportive housing and case management for people experiencing homelessness. As a member of Maryland’s first certified Housing Support Services cohort\, she offers both hands-on expertise and a strategic perspective.Learn more and register!
URL:https://mih-inc.org/event/mih-housing-support-servicers-training/2026-01-27/
CATEGORIES:Housing Trainings Calendar,Partner Events
END:VEVENT
BEGIN:VEVENT
DTSTART;TZID=America/New_York:20260203T100000
DTEND;TZID=America/New_York:20260203T150000
DTSTAMP:20260425T124656
CREATED:20251218T161604Z
LAST-MODIFIED:20251218T173906Z
UID:10000610-1770112800-1770130800@mih-inc.org
SUMMARY:MIH Housing Support Servicers Training
DESCRIPTION:Maryland Inclusive Housing (MIH) is offering virtual\, DDA-approved training that meets Waiver requirements for Housing Support Services. The training is led by Lauren Silverstone\, Director of Housing Support Services at MIH. Lauren brings over 12 years of experience working with individuals with disabilities\, including providing permanent supportive housing and case management for people experiencing homelessness. As a member of Maryland’s first certified Housing Support Services cohort\, she offers both hands-on expertise and a strategic perspective.Learn more and register!
URL:https://mih-inc.org/event/mih-housing-support-servicers-training/2026-02-03/
CATEGORIES:Housing Trainings Calendar,Partner Events
END:VEVENT
BEGIN:VEVENT
DTSTART;TZID=America/New_York:20260210T100000
DTEND;TZID=America/New_York:20260210T150000
DTSTAMP:20260425T124656
CREATED:20251218T161604Z
LAST-MODIFIED:20251218T173906Z
UID:10000611-1770717600-1770735600@mih-inc.org
SUMMARY:MIH Housing Support Servicers Training
DESCRIPTION:Maryland Inclusive Housing (MIH) is offering virtual\, DDA-approved training that meets Waiver requirements for Housing Support Services. The training is led by Lauren Silverstone\, Director of Housing Support Services at MIH. Lauren brings over 12 years of experience working with individuals with disabilities\, including providing permanent supportive housing and case management for people experiencing homelessness. As a member of Maryland’s first certified Housing Support Services cohort\, she offers both hands-on expertise and a strategic perspective.Learn more and register!
URL:https://mih-inc.org/event/mih-housing-support-servicers-training/2026-02-10/
CATEGORIES:Housing Trainings Calendar,Partner Events
END:VEVENT
BEGIN:VEVENT
DTSTART;TZID=America/New_York:20260304T160000
DTEND;TZID=America/New_York:20260304T170000
DTSTAMP:20260425T124656
CREATED:20260213T163732Z
LAST-MODIFIED:20260213T195716Z
UID:10000622-1772640000-1772643600@mih-inc.org
SUMMARY:Leveraging H.R. 1’s Affordable Housing Provisions for Housing and Health Initiatives
DESCRIPTION:Join us for an interactive webinar during which we’ll discuss: – H.R. 1’s changes to LIHTC and how these changes could lead to more opportunities to advance “housing for health” initiatives – How to effectively coordinate LIHTC-subsidized housing and Medicaid Home and Community Based Services – What state actions are needed to bring about these opportunities. Learn more and register!
URL:https://mih-inc.org/event/leveraging-h-r-1s-affordable-housing-provisions-for-housing-and-health-initiatives/
CATEGORIES:Housing Trainings Calendar
END:VEVENT
BEGIN:VEVENT
DTSTART;TZID=America/New_York:20260416T100000
DTEND;TZID=America/New_York:20260416T150000
DTSTAMP:20260425T124656
CREATED:20260331T195952Z
LAST-MODIFIED:20260331T195953Z
UID:10000628-1776333600-1776351600@mih-inc.org
SUMMARY:MIH Housing Support Services Training
DESCRIPTION:MIH is offering virtual five-session\, DDA-approved and waiver-required training in Housing Support Services (HSS)\, starting April 16 and provided by housing support services expert Lauren Silverstone\, Director of HSS at MIH. This comprehensive and uniquely tailored program gives Housing Support Services workers the knowledge and credentials stipulated by DDA to help individuals with Intellectual and Developmental Disabilities obtain and maintain accessible and affordable housing of their choice. Each session will last from 10 a.m. – 3 p.m. Click here to register!
URL:https://mih-inc.org/event/mih-housing-support-services-training-4/
CATEGORIES:Housing Trainings Calendar,Partner Events
END:VEVENT
BEGIN:VEVENT
DTSTART;TZID=America/New_York:20260423T100000
DTEND;TZID=America/New_York:20260423T150000
DTSTAMP:20260425T124656
CREATED:20260331T195617Z
LAST-MODIFIED:20260331T195720Z
UID:10000629-1776938400-1776956400@mih-inc.org
SUMMARY:MIH Housing Support Services Training
DESCRIPTION:MIH is offering virtual five-session\, DDA-approved and waiver-required training in Housing Support Services (HSS)\, starting April 16 and provided by housing support services expert Lauren Silverstone\, Director of HSS at MIH. This comprehensive and uniquely tailored program gives Housing Support Services workers the knowledge and credentials stipulated by DDA to help individuals with Intellectual and Developmental Disabilities obtain and maintain accessible and affordable housing of their choice. Each session will last from 10 a.m. – 3 p.m. Click here to register!
URL:https://mih-inc.org/event/mih-housing-support-services-training-3/2026-04-23/
CATEGORIES:Housing Trainings Calendar
END:VEVENT
BEGIN:VEVENT
DTSTART;TZID=America/New_York:20260430T100000
DTEND;TZID=America/New_York:20260430T150000
DTSTAMP:20260425T124656
CREATED:20260331T195617Z
LAST-MODIFIED:20260331T195720Z
UID:10000630-1777543200-1777561200@mih-inc.org
SUMMARY:MIH Housing Support Services Training
DESCRIPTION:MIH is offering virtual five-session\, DDA-approved and waiver-required training in Housing Support Services (HSS)\, starting April 16 and provided by housing support services expert Lauren Silverstone\, Director of HSS at MIH. This comprehensive and uniquely tailored program gives Housing Support Services workers the knowledge and credentials stipulated by DDA to help individuals with Intellectual and Developmental Disabilities obtain and maintain accessible and affordable housing of their choice. Each session will last from 10 a.m. – 3 p.m. Click here to register!
URL:https://mih-inc.org/event/mih-housing-support-services-training-3/2026-04-30/
CATEGORIES:Housing Trainings Calendar
END:VEVENT
BEGIN:VEVENT
DTSTART;TZID=America/New_York:20260507T100000
DTEND;TZID=America/New_York:20260507T150000
DTSTAMP:20260425T124656
CREATED:20260331T195617Z
LAST-MODIFIED:20260331T195720Z
UID:10000631-1778148000-1778166000@mih-inc.org
SUMMARY:MIH Housing Support Services Training
DESCRIPTION:MIH is offering virtual five-session\, DDA-approved and waiver-required training in Housing Support Services (HSS)\, starting April 16 and provided by housing support services expert Lauren Silverstone\, Director of HSS at MIH. This comprehensive and uniquely tailored program gives Housing Support Services workers the knowledge and credentials stipulated by DDA to help individuals with Intellectual and Developmental Disabilities obtain and maintain accessible and affordable housing of their choice. Each session will last from 10 a.m. – 3 p.m. Click here to register!
URL:https://mih-inc.org/event/mih-housing-support-services-training-3/2026-05-07/
CATEGORIES:Housing Trainings Calendar
END:VEVENT
BEGIN:VEVENT
DTSTART;TZID=America/New_York:20260514T100000
DTEND;TZID=America/New_York:20260514T150000
DTSTAMP:20260425T124656
CREATED:20260331T195617Z
LAST-MODIFIED:20260331T195720Z
UID:10000632-1778752800-1778770800@mih-inc.org
SUMMARY:MIH Housing Support Services Training
DESCRIPTION:MIH is offering virtual five-session\, DDA-approved and waiver-required training in Housing Support Services (HSS)\, starting April 16 and provided by housing support services expert Lauren Silverstone\, Director of HSS at MIH. This comprehensive and uniquely tailored program gives Housing Support Services workers the knowledge and credentials stipulated by DDA to help individuals with Intellectual and Developmental Disabilities obtain and maintain accessible and affordable housing of their choice. Each session will last from 10 a.m. – 3 p.m. Click here to register!
URL:https://mih-inc.org/event/mih-housing-support-services-training-3/2026-05-14/
CATEGORIES:Housing Trainings Calendar
END:VEVENT
END:VCALENDAR