BEGIN:VCALENDAR
VERSION:2.0
PRODID:-//Maryland Inclusive Housing (MIH) - ECPv6.15.20//NONSGML v1.0//EN
CALSCALE:GREGORIAN
METHOD:PUBLISH
X-ORIGINAL-URL:https://mih-inc.org
X-WR-CALDESC:Events for Maryland Inclusive Housing (MIH)
REFRESH-INTERVAL;VALUE=DURATION:PT1H
X-Robots-Tag:noindex
X-PUBLISHED-TTL:PT1H
BEGIN:VTIMEZONE
TZID:America/New_York
BEGIN:DAYLIGHT
TZOFFSETFROM:-0500
TZOFFSETTO:-0400
TZNAME:EDT
DTSTART:20240310T070000
END:DAYLIGHT
BEGIN:STANDARD
TZOFFSETFROM:-0400
TZOFFSETTO:-0500
TZNAME:EST
DTSTART:20241103T060000
END:STANDARD
BEGIN:DAYLIGHT
TZOFFSETFROM:-0500
TZOFFSETTO:-0400
TZNAME:EDT
DTSTART:20250309T070000
END:DAYLIGHT
BEGIN:STANDARD
TZOFFSETFROM:-0400
TZOFFSETTO:-0500
TZNAME:EST
DTSTART:20251102T060000
END:STANDARD
BEGIN:DAYLIGHT
TZOFFSETFROM:-0500
TZOFFSETTO:-0400
TZNAME:EDT
DTSTART:20260308T070000
END:DAYLIGHT
BEGIN:STANDARD
TZOFFSETFROM:-0400
TZOFFSETTO:-0500
TZNAME:EST
DTSTART:20261101T060000
END:STANDARD
END:VTIMEZONE
BEGIN:VEVENT
DTSTART;TZID=America/New_York:20250129T100000
DTEND;TZID=America/New_York:20250129T150000
DTSTAMP:20260421T060228
CREATED:20241105T204841Z
LAST-MODIFIED:20241111T214437Z
UID:10000527-1738144800-1738162800@mih-inc.org
SUMMARY:MIH Housing Support Services Training
DESCRIPTION:This January\, MIH is offering virtual DDA-approved and Waiver-required training in Housing Support Services provided by national housing expert Diane Dressler\, Senior Associate at Community Life Resources.This comprehensive and uniquely tailored 5-week program\, which runs Wednesdays from Jan 8th to February 5th\, gives Housing Support Services workers the knowledge and credentials stipulated by DDA to help individuals with Intellectual and Developmental Disabilities obtain and maintain accessible and affordable housing of their choice.Housing Support and Community Services\, Rent Subsidy Basics\, Housing Planning\, Accessibility in Housing\, Budgeting & Bill Paying\, Oversight. *You must attend all 5 sessions and pass the final exam to receive your certificate.
URL:https://mih-inc.org/event/mih-housing-support-services-training/2025-01-29/
CATEGORIES:Housing Trainings Calendar,Partner Events
END:VEVENT
END:VCALENDAR