BEGIN:VCALENDAR
VERSION:2.0
PRODID:-//Maryland Inclusive Housing (MIH) - ECPv6.15.20//NONSGML v1.0//EN
CALSCALE:GREGORIAN
METHOD:PUBLISH
X-ORIGINAL-URL:https://mih-inc.org
X-WR-CALDESC:Events for Maryland Inclusive Housing (MIH)
REFRESH-INTERVAL;VALUE=DURATION:PT1H
X-Robots-Tag:noindex
X-PUBLISHED-TTL:PT1H
BEGIN:VTIMEZONE
TZID:America/New_York
BEGIN:DAYLIGHT
TZOFFSETFROM:-0500
TZOFFSETTO:-0400
TZNAME:EDT
DTSTART:20250309T070000
END:DAYLIGHT
BEGIN:STANDARD
TZOFFSETFROM:-0400
TZOFFSETTO:-0500
TZNAME:EST
DTSTART:20251102T060000
END:STANDARD
BEGIN:DAYLIGHT
TZOFFSETFROM:-0500
TZOFFSETTO:-0400
TZNAME:EDT
DTSTART:20260308T070000
END:DAYLIGHT
BEGIN:STANDARD
TZOFFSETFROM:-0400
TZOFFSETTO:-0500
TZNAME:EST
DTSTART:20261101T060000
END:STANDARD
BEGIN:DAYLIGHT
TZOFFSETFROM:-0500
TZOFFSETTO:-0400
TZNAME:EDT
DTSTART:20270314T070000
END:DAYLIGHT
BEGIN:STANDARD
TZOFFSETFROM:-0400
TZOFFSETTO:-0500
TZNAME:EST
DTSTART:20271107T060000
END:STANDARD
END:VTIMEZONE
BEGIN:VEVENT
DTSTART;TZID=America/New_York:20260507T100000
DTEND;TZID=America/New_York:20260507T150000
DTSTAMP:20260423T061427
CREATED:20260331T195617Z
LAST-MODIFIED:20260331T195720Z
UID:10000631-1778148000-1778166000@mih-inc.org
SUMMARY:MIH Housing Support Services Training
DESCRIPTION:MIH is offering virtual five-session\, DDA-approved and waiver-required training in Housing Support Services (HSS)\, starting April 16 and provided by housing support services expert Lauren Silverstone\, Director of HSS at MIH. This comprehensive and uniquely tailored program gives Housing Support Services workers the knowledge and credentials stipulated by DDA to help individuals with Intellectual and Developmental Disabilities obtain and maintain accessible and affordable housing of their choice. Each session will last from 10 a.m. – 3 p.m. Click here to register!
URL:https://mih-inc.org/event/mih-housing-support-services-training-3/2026-05-07/
CATEGORIES:Housing Trainings Calendar
END:VEVENT
BEGIN:VEVENT
DTSTART;TZID=America/New_York:20260511T140000
DTEND;TZID=America/New_York:20260511T153000
DTSTAMP:20260423T061427
CREATED:20260323T182106Z
LAST-MODIFIED:20260323T182107Z
UID:10000626-1778508000-1778513400@mih-inc.org
SUMMARY:Baltimore County Housing Committee Meeting
DESCRIPTION:
URL:https://mih-inc.org/event/baltimore-county-housing-committee-meeting-9/
CATEGORIES:Baltimore County
END:VEVENT
BEGIN:VEVENT
DTSTART;TZID=America/New_York:20260514T100000
DTEND;TZID=America/New_York:20260514T150000
DTSTAMP:20260423T061427
CREATED:20260331T195617Z
LAST-MODIFIED:20260331T195720Z
UID:10000632-1778752800-1778770800@mih-inc.org
SUMMARY:MIH Housing Support Services Training
DESCRIPTION:MIH is offering virtual five-session\, DDA-approved and waiver-required training in Housing Support Services (HSS)\, starting April 16 and provided by housing support services expert Lauren Silverstone\, Director of HSS at MIH. This comprehensive and uniquely tailored program gives Housing Support Services workers the knowledge and credentials stipulated by DDA to help individuals with Intellectual and Developmental Disabilities obtain and maintain accessible and affordable housing of their choice. Each session will last from 10 a.m. – 3 p.m. Click here to register!
URL:https://mih-inc.org/event/mih-housing-support-services-training-3/2026-05-14/
CATEGORIES:Housing Trainings Calendar
END:VEVENT
BEGIN:VEVENT
DTSTART;TZID=America/New_York:20260514T150000
DTEND;TZID=America/New_York:20260514T163000
DTSTAMP:20260423T061427
CREATED:20260313T151550Z
LAST-MODIFIED:20260313T151552Z
UID:10000623-1778770800-1778776200@mih-inc.org
SUMMARY:Howard County Housing Committee Meeting
DESCRIPTION:
URL:https://mih-inc.org/event/howard-county-housing-committee-meeting-26/
CATEGORIES:Howard County
END:VEVENT
BEGIN:VEVENT
DTSTART;TZID=America/New_York:20260520T150000
DTEND;TZID=America/New_York:20260520T163000
DTSTAMP:20260423T061427
CREATED:20260323T181339Z
LAST-MODIFIED:20260323T181340Z
UID:10000625-1779289200-1779294600@mih-inc.org
SUMMARY:Montgomery County Housing Committee Meeting
DESCRIPTION:
URL:https://mih-inc.org/event/montgomery-county-housing-committee-meeting-23/
CATEGORIES:Montgomery County
END:VEVENT
BEGIN:VEVENT
DTSTART;TZID=America/New_York:20260601T150000
DTEND;TZID=America/New_York:20260601T163000
DTSTAMP:20260423T061427
CREATED:20260331T194801Z
LAST-MODIFIED:20260331T194803Z
UID:10000627-1780326000-1780331400@mih-inc.org
SUMMARY:Baltimore City Housing Committee Meeting
DESCRIPTION:
URL:https://mih-inc.org/event/baltimore-city-housing-committee-meeting-23/
CATEGORIES:Baltimore City
END:VEVENT
BEGIN:VEVENT
DTSTART;TZID=America/New_York:20260608T150000
DTEND;TZID=America/New_York:20260608T163000
DTSTAMP:20260423T061427
CREATED:20260413T202618Z
LAST-MODIFIED:20260413T202619Z
UID:10000639-1780930800-1780936200@mih-inc.org
SUMMARY:Eastern Shore Housing Committee Meeting
DESCRIPTION:
URL:https://mih-inc.org/event/eastern-shore-housing-committee-meeting-16/
CATEGORIES:Eastern Shore
END:VEVENT
BEGIN:VEVENT
DTSTART;TZID=America/New_York:20260609T090000
DTEND;TZID=America/New_York:20260609T100000
DTSTAMP:20260423T061427
CREATED:20260422T201916Z
LAST-MODIFIED:20260422T201917Z
UID:10000640-1780995600-1780999200@mih-inc.org
SUMMARY:Charles County Housing Committee Meeting
DESCRIPTION:
URL:https://mih-inc.org/event/charles-county-housing-committee-meeting/
CATEGORIES:Charles County
END:VEVENT
END:VCALENDAR