BEGIN:VCALENDAR
VERSION:2.0
PRODID:-//Maryland Inclusive Housing (MIH) - ECPv6.15.20//NONSGML v1.0//EN
CALSCALE:GREGORIAN
METHOD:PUBLISH
X-WR-CALNAME:Maryland Inclusive Housing (MIH)
X-ORIGINAL-URL:https://mih-inc.org
X-WR-CALDESC:Events for Maryland Inclusive Housing (MIH)
REFRESH-INTERVAL;VALUE=DURATION:PT1H
X-Robots-Tag:noindex
X-PUBLISHED-TTL:PT1H
BEGIN:VTIMEZONE
TZID:America/New_York
BEGIN:DAYLIGHT
TZOFFSETFROM:-0500
TZOFFSETTO:-0400
TZNAME:EDT
DTSTART:20240310T070000
END:DAYLIGHT
BEGIN:STANDARD
TZOFFSETFROM:-0400
TZOFFSETTO:-0500
TZNAME:EST
DTSTART:20241103T060000
END:STANDARD
BEGIN:DAYLIGHT
TZOFFSETFROM:-0500
TZOFFSETTO:-0400
TZNAME:EDT
DTSTART:20250309T070000
END:DAYLIGHT
BEGIN:STANDARD
TZOFFSETFROM:-0400
TZOFFSETTO:-0500
TZNAME:EST
DTSTART:20251102T060000
END:STANDARD
BEGIN:DAYLIGHT
TZOFFSETFROM:-0500
TZOFFSETTO:-0400
TZNAME:EDT
DTSTART:20260308T070000
END:DAYLIGHT
BEGIN:STANDARD
TZOFFSETFROM:-0400
TZOFFSETTO:-0500
TZNAME:EST
DTSTART:20261101T060000
END:STANDARD
END:VTIMEZONE
BEGIN:VEVENT
DTSTART;TZID=America/New_York:20250205T100000
DTEND;TZID=America/New_York:20250205T150000
DTSTAMP:20260423T104407
CREATED:20241105T204841Z
LAST-MODIFIED:20241111T214437Z
UID:10000528-1738749600-1738767600@mih-inc.org
SUMMARY:MIH Housing Support Services Training
DESCRIPTION:This January\, MIH is offering virtual DDA-approved and Waiver-required training in Housing Support Services provided by national housing expert Diane Dressler\, Senior Associate at Community Life Resources.This comprehensive and uniquely tailored 5-week program\, which runs Wednesdays from Jan 8th to February 5th\, gives Housing Support Services workers the knowledge and credentials stipulated by DDA to help individuals with Intellectual and Developmental Disabilities obtain and maintain accessible and affordable housing of their choice.Housing Support and Community Services\, Rent Subsidy Basics\, Housing Planning\, Accessibility in Housing\, Budgeting & Bill Paying\, Oversight. *You must attend all 5 sessions and pass the final exam to receive your certificate.
URL:https://mih-inc.org/event/mih-housing-support-services-training/2025-02-05/
CATEGORIES:Housing Trainings Calendar,Partner Events
END:VEVENT
BEGIN:VEVENT
DTSTART;TZID=America/New_York:20250205T130000
DTEND;TZID=America/New_York:20250205T143000
DTSTAMP:20260423T104407
CREATED:20250124T164537Z
LAST-MODIFIED:20250124T164540Z
UID:10000543-1738760400-1738765800@mih-inc.org
SUMMARY:Webinar- Eviction Protocols: Non-Payment\, CARES Act\, and HUD's 30 Day Notice
DESCRIPTION:This Compliance Prime webinar\, hosted by Gwen Volk\, provides an in-depth overview of eviction protocols focusing on non-payment of rent. It covers essential aspects such as the CARES Act requirements\, HUD’s mandatory 30-day notice\, and the proper procedures to ensure compliance with federal regulations. Participants will gain valuable insights into navigating eviction processes while minimizing legal risks and maintaining fairness. This session is ideal for property managers\, housing professionals\, and anyone involved in affordable housing management.About the CompanyCompliance Prime is a trusted leader in compliance training\, offering a diverse range of webinars\, workshops\, and courses led by industry experts. Our team is passionate about delivering practical and actionable insights that help our clients navigate the complex landscape of regulations and standards.
URL:https://mih-inc.org/event/webinar-eviction-protocols-non-payment-cares-act-and-huds-30-day-notice/
CATEGORIES:Housing Trainings Calendar,Partner Events
END:VEVENT
BEGIN:VEVENT
DTSTART;TZID=America/New_York:20250210T150000
DTEND;TZID=America/New_York:20250210T163000
DTSTAMP:20260423T104407
CREATED:20250110T211648Z
LAST-MODIFIED:20250110T211750Z
UID:10000536-1739199600-1739205000@mih-inc.org
SUMMARY:Baltimore City Housing Committee Meeting
DESCRIPTION:
URL:https://mih-inc.org/event/baltimore-city-housing-committee-meeting-16/
CATEGORIES:Baltimore City
END:VEVENT
BEGIN:VEVENT
DTSTART;TZID=America/New_York:20250212T150000
DTEND;TZID=America/New_York:20250212T163000
DTSTAMP:20260423T104407
CREATED:20250110T212141Z
LAST-MODIFIED:20250110T212241Z
UID:10000538-1739372400-1739377800@mih-inc.org
SUMMARY:Prince George's County Housing Committee Meeting
DESCRIPTION:
URL:https://mih-inc.org/event/prince-georges-county-housing-committee-meeting-9/
CATEGORIES:Prince George's County
END:VEVENT
BEGIN:VEVENT
DTSTART;TZID=America/New_York:20250220T010000
DTEND;TZID=America/New_York:20250220T013000
DTSTAMP:20260423T104407
CREATED:20250107T194407Z
LAST-MODIFIED:20250107T194410Z
UID:10000535-1740013200-1740015000@mih-inc.org
SUMMARY:JDAIM Disabilities Resource Forum
DESCRIPTION:Individuals with disabilities\, their loved ones\, and care providers are invited to hear experts share valuable insights and resources on housing services\, state and federally funded benefits\, ABLE accounts\, trusts\, and other essential information to help plan for the future. The session will also include participant Q&A with the presenters:– Lauren Silverstone\, MA Director of Housing Support Services\, Maryland Inclusive Housing– Victoria Z. Sulerzyski\, Esquire\, CIPP/US Counsel\, Bowie & Jensen\, LLC– Kelly Nelson |  Outreach and Communications Manager\, Maryland ABLE
URL:https://mih-inc.org/event/jdaim-disabilities-resource-forum/
LOCATION:Jewish Community Services\, 5750 Park Heights Avenue\, Baltimore\, Maryland\, 21215
CATEGORIES:Housing Trainings Calendar,Partner Events
END:VEVENT
BEGIN:VEVENT
DTSTART;TZID=America/New_York:20250220T150000
DTEND;TZID=America/New_York:20250220T163000
DTSTAMP:20260423T104407
CREATED:20250110T211835Z
LAST-MODIFIED:20250110T211837Z
UID:10000537-1740063600-1740069000@mih-inc.org
SUMMARY:Eastern Shore Housing Committee Meeting
DESCRIPTION:
URL:https://mih-inc.org/event/eastern-shore-housing-committee-meeting-11/
CATEGORIES:Eastern Shore
END:VEVENT
BEGIN:VEVENT
DTSTART;TZID=America/New_York:20250225T100000
DTEND;TZID=America/New_York:20250225T113000
DTSTAMP:20260423T104407
CREATED:20250129T191153Z
LAST-MODIFIED:20250129T191156Z
UID:10000544-1740477600-1740483000@mih-inc.org
SUMMARY:MDHousingSearch.org - Maryland Department of Disabilities + Emphasys Housing Locator | Webinar
DESCRIPTION:We’re excited to offer a training session to help you navigate MDHousingSearch.com most effectively. This will enhance your ability to assist individuals and families better searching for affordable and accessible housing.We look forward to your participation!
URL:https://mih-inc.org/event/mdhousingsearch-org-maryland-department-of-disabilities-emphasys-housing-locator-webinar/
CATEGORIES:Housing Trainings Calendar,Partner Events
END:VEVENT
END:VCALENDAR