BEGIN:VCALENDAR
VERSION:2.0
PRODID:-//Maryland Inclusive Housing (MIH) - ECPv6.15.20//NONSGML v1.0//EN
CALSCALE:GREGORIAN
METHOD:PUBLISH
X-ORIGINAL-URL:https://mih-inc.org
X-WR-CALDESC:Events for Maryland Inclusive Housing (MIH)
REFRESH-INTERVAL;VALUE=DURATION:PT1H
X-Robots-Tag:noindex
X-PUBLISHED-TTL:PT1H
BEGIN:VTIMEZONE
TZID:America/New_York
BEGIN:DAYLIGHT
TZOFFSETFROM:-0500
TZOFFSETTO:-0400
TZNAME:EDT
DTSTART:20240310T070000
END:DAYLIGHT
BEGIN:STANDARD
TZOFFSETFROM:-0400
TZOFFSETTO:-0500
TZNAME:EST
DTSTART:20241103T060000
END:STANDARD
BEGIN:DAYLIGHT
TZOFFSETFROM:-0500
TZOFFSETTO:-0400
TZNAME:EDT
DTSTART:20250309T070000
END:DAYLIGHT
BEGIN:STANDARD
TZOFFSETFROM:-0400
TZOFFSETTO:-0500
TZNAME:EST
DTSTART:20251102T060000
END:STANDARD
BEGIN:DAYLIGHT
TZOFFSETFROM:-0500
TZOFFSETTO:-0400
TZNAME:EDT
DTSTART:20260308T070000
END:DAYLIGHT
BEGIN:STANDARD
TZOFFSETFROM:-0400
TZOFFSETTO:-0500
TZNAME:EST
DTSTART:20261101T060000
END:STANDARD
END:VTIMEZONE
BEGIN:VEVENT
DTSTART;TZID=America/New_York:20250409T150000
DTEND;TZID=America/New_York:20250409T163000
DTSTAMP:20260423T131257
CREATED:20250218T185941Z
LAST-MODIFIED:20250218T185943Z
UID:10000546-1744210800-1744216200@mih-inc.org
SUMMARY:Prince George's County Housing Committee Meeting
DESCRIPTION:
URL:https://mih-inc.org/event/prince-georges-county-housing-committee-meeting-10/
CATEGORIES:Prince George's County
END:VEVENT
BEGIN:VEVENT
DTSTART;TZID=America/New_York:20250410T093000
DTEND;TZID=America/New_York:20250410T160000
DTSTAMP:20260423T131257
CREATED:20250303T182545Z
LAST-MODIFIED:20250303T182546Z
UID:10000549-1744277400-1744300800@mih-inc.org
SUMMARY:In-person Annual MPAH Case and Property Manager event at MDOT/Hanover
DESCRIPTION:Email wayne.reediii@maryland.gov to register.*Attendees names and lunch order due to wayne.reediii@maryland.gov by 4/4/25Tentative agenda:9:30am Registration10 am – 10:45AM Opening Remarks – MDH/DHCD/MDOD10:45am – 11:45am Reasonable AccommodationsPresenter: Yost & Maya Rosenberg11:45am – 12:15 – Review of Legislative Session and Housing bills – Disability Rights Maryland12:15 – 1pm Lunch & Hoarding presentation by Heather Murphy\, Abilities Network1pm – 1:45 Disability Etiquette presentation by Centers for Independent Living1:45 – 2:30pm – Table Activity facilitated by Healthy Lives and Penny Scrivens2:30pm – 3:15pm – Housing panel3:15 – 3:30 pm Reflections on the Day/Adjourn
URL:https://mih-inc.org/event/in-person-annual-mpah-case-and-property-manager-event-at-mdot-hanover/
CATEGORIES:Housing Trainings Calendar
END:VEVENT
BEGIN:VEVENT
DTSTART;TZID=America/New_York:20250410T130000
DTEND;TZID=America/New_York:20250410T143000
DTSTAMP:20260423T131257
CREATED:20250331T132249Z
LAST-MODIFIED:20250331T132251Z
UID:10000554-1744290000-1744295400@mih-inc.org
SUMMARY:Leases\, Addendums\, Modifications and Attachments at HUD Multifamily Properties – Getting Ready for HOTMA
DESCRIPTION:Are you responsible for lease implementation and enforcement? Do you review files for compliance and want to ensure accuracy and efficiency? This course is designed to equip you with the critical knowledge needed to confidently navigate lease types\, content\, and regulations specific to different housing programs. This course is designed to help you understand lease types\, content and regulations by program type. It also serves to walk through the proper process on how to modify sections of lease for different circumstances\, and identify different types of lease addendums and attachments that are both required and optional as well as method of implementation. It will educate attendees on how to properly implement new model leases when they are released for HOTMA compliance.Areas Covered*       Identify lease type and required content by program requirement.*       Learn the difference between an addendum and an attachment\, which ones are required\, and how to implement each*       Learn how to properly modify sections of the lease when different things happen*       How to properly implement lease and other information related to live-in aides*       Identify and correct common lease issues*       Learn how to properly implement new leases when they are released for HOTMA.        
URL:https://mih-inc.org/event/leases-addendums-modifications-and-attachments-at-hud-multifamily-properties-getting-ready-for-hotma/
CATEGORIES:Housing Trainings Calendar
END:VEVENT
BEGIN:VEVENT
DTSTART;TZID=America/New_York:20250414T153000
DTEND;TZID=America/New_York:20250414T170000
DTSTAMP:20260423T131257
CREATED:20250218T184748Z
LAST-MODIFIED:20250218T184750Z
UID:10000545-1744644600-1744650000@mih-inc.org
SUMMARY:Baltimore City Housing Committee Meeting
DESCRIPTION:
URL:https://mih-inc.org/event/baltimore-city-housing-committee-meeting-17/
CATEGORIES:Baltimore City
END:VEVENT
BEGIN:VEVENT
DTSTART;TZID=America/New_York:20250417T150000
DTEND;TZID=America/New_York:20250417T163000
DTSTAMP:20260423T131257
CREATED:20250320T175457Z
LAST-MODIFIED:20250320T175459Z
UID:10000551-1744902000-1744907400@mih-inc.org
SUMMARY:Eastern Shore Housing Committee MEeting
DESCRIPTION:
URL:https://mih-inc.org/event/eastern-shore-housing-committee-meeting-12/
CATEGORIES:Eastern Shore
END:VEVENT
END:VCALENDAR