BEGIN:VCALENDAR
VERSION:2.0
PRODID:-//Maryland Inclusive Housing (MIH) - ECPv6.15.20//NONSGML v1.0//EN
CALSCALE:GREGORIAN
METHOD:PUBLISH
X-ORIGINAL-URL:https://mih-inc.org
X-WR-CALDESC:Events for Maryland Inclusive Housing (MIH)
REFRESH-INTERVAL;VALUE=DURATION:PT1H
X-Robots-Tag:noindex
X-PUBLISHED-TTL:PT1H
BEGIN:VTIMEZONE
TZID:America/New_York
BEGIN:DAYLIGHT
TZOFFSETFROM:-0500
TZOFFSETTO:-0400
TZNAME:EDT
DTSTART:20230312T070000
END:DAYLIGHT
BEGIN:STANDARD
TZOFFSETFROM:-0400
TZOFFSETTO:-0500
TZNAME:EST
DTSTART:20231105T060000
END:STANDARD
BEGIN:DAYLIGHT
TZOFFSETFROM:-0500
TZOFFSETTO:-0400
TZNAME:EDT
DTSTART:20240310T070000
END:DAYLIGHT
BEGIN:STANDARD
TZOFFSETFROM:-0400
TZOFFSETTO:-0500
TZNAME:EST
DTSTART:20241103T060000
END:STANDARD
BEGIN:DAYLIGHT
TZOFFSETFROM:-0500
TZOFFSETTO:-0400
TZNAME:EDT
DTSTART:20250309T070000
END:DAYLIGHT
BEGIN:STANDARD
TZOFFSETFROM:-0400
TZOFFSETTO:-0500
TZNAME:EST
DTSTART:20251102T060000
END:STANDARD
END:VTIMEZONE
BEGIN:VEVENT
DTSTART;TZID=America/New_York:20241021T150000
DTEND;TZID=America/New_York:20241021T163000
DTSTAMP:20260421T053455
CREATED:20240904T175344Z
LAST-MODIFIED:20240904T175440Z
UID:10000508-1729522800-1729528200@mih-inc.org
SUMMARY:Baltimore City Housing Committee Meeting
DESCRIPTION:
URL:https://mih-inc.org/event/baltimore-city-housing-committee-meeting-14/
CATEGORIES:Baltimore City
END:VEVENT
BEGIN:VEVENT
DTSTART;TZID=America/New_York:20241022T130000
DTEND;TZID=America/New_York:20241022T140000
DTSTAMP:20260421T053455
CREATED:20241018T105247Z
LAST-MODIFIED:20241018T105249Z
UID:10000517-1729602000-1729605600@mih-inc.org
SUMMARY:Disability Deep Dive: Mastering the Reason in Reasonable Accommodations and Modifications
DESCRIPTION:Complaints alleging discrimination based upon disability account for more than half of all reported fair housing complaints. The majority of complaints are due to ignorance of the law\, resentment or people thinking they know better than HUD and DOJ. While anyone can request an accommodation or modification based upon a disability\, it is up to a multifamily professional to determine if the request is reasonable.Areas CoveredProtections for disabled personsWorkflow for intake\, analysis\, and disposition of requestsAccommodations and modificationsWhat is reasonable?What is a reasonable alternative?Appropriate questionsWhen can verification be required?Response time in the post-COVID worldWhat is an Interactive Process and when is it used?Summary of best practices
URL:https://mih-inc.org/event/disability-deep-dive-mastering-the-reason-in-reasonable-accommodations-and-modifications/
CATEGORIES:Housing Trainings Calendar
END:VEVENT
BEGIN:VEVENT
DTSTART;TZID=America/New_York:20241023T150000
DTEND;TZID=America/New_York:20241023T163000
DTSTAMP:20260421T053455
CREATED:20240904T175831Z
LAST-MODIFIED:20240904T175832Z
UID:10000511-1729695600-1729701000@mih-inc.org
SUMMARY:Prince George's County Housing Committee Meeting
DESCRIPTION:
URL:https://mih-inc.org/event/prince-georges-county-housing-committee-meeting-7/
CATEGORIES:Prince George's County
END:VEVENT
BEGIN:VEVENT
DTSTART;TZID=America/New_York:20241024T150000
DTEND;TZID=America/New_York:20241024T163000
DTSTAMP:20260421T053455
CREATED:20240904T175722Z
LAST-MODIFIED:20240904T175723Z
UID:10000510-1729782000-1729787400@mih-inc.org
SUMMARY:Howard County Housing Committee Meeting
DESCRIPTION:
URL:https://mih-inc.org/event/howard-county-housing-committee-meeting-17/
CATEGORIES:Howard County
END:VEVENT
END:VCALENDAR